BEGIN:VCALENDAR
VERSION:2.0
PRODID:-//wp-events-plugin.com//7.2.3.1//EN
TZID:Europe/Berlin
X-WR-TIMEZONE:Europe/Berlin
BEGIN:VEVENT
UID:322@wolfsgarde.net
DTSTART;TZID=Europe/Berlin:20240413T190000
DTEND;TZID=Europe/Berlin:20240413T234500
DTSTAMP:20240409T194400Z
URL:https://www.wolfsgarde.net/events/spieletreff-isenbuettel/
SUMMARY:Spieletreff Isenbüttel
DESCRIPTION:
ATTACH;FMTTYPE=image/jpeg:https://www.wolfsgarde.net/wp-content/uploads/20
 24/04/file.jpeg
CATEGORIES:Externe Veranstaltung
LOCATION:Isenbüttel Aula\, Schulstraße 31\, Isenbüttel\, Niedersachsen\,
  38550\, Deutschland
GEO:52.430572;10.57894
X-APPLE-STRUCTURED-LOCATION;VALUE=URI;X-ADDRESS=Schulstraße 31\, Isenbütt
 el\, Niedersachsen\, 38550\, Deutschland;X-APPLE-RADIUS=100;X-TITLE=Isenb
 üttel Aula:geo:52.430572,10.57894
END:VEVENT
BEGIN:VTIMEZONE
TZID:Europe/Berlin
X-LIC-LOCATION:Europe/Berlin
BEGIN:DAYLIGHT
DTSTART:20240331T030000
TZOFFSETFROM:+0100
TZOFFSETTO:+0200
TZNAME:CEST
END:DAYLIGHT
END:VTIMEZONE
END:VCALENDAR